Package: MSPrep Version: 1.18.0 Command: rm -rf MSPrep.buildbin-libdir && mkdir MSPrep.buildbin-libdir && /Users/biocbuild/BBS/utils/build-universal.sh MSPrep_1.18.0.tar.gz /Library/Frameworks/R.framework/Resources/bin/R MSPrep.buildbin-libdir StartedAt: 2025-10-15 19:30:17 -0400 (Wed, 15 Oct 2025) EndedAt: 2025-10-15 19:31:01 -0400 (Wed, 15 Oct 2025) EllapsedTime: 44.0 seconds RetCode: 0 Status: OK PackageFile: MSPrep_1.18.0.tgz PackageFileSize: 1.637 MiB