Package: MSA2dist Version: 1.14.0 Command: /home/biocbuild/R/R/bin/R CMD build --keep-empty-dirs --no-resave-data MSA2dist StartedAt: 2025-11-14 03:34:58 -0000 (Fri, 14 Nov 2025) EndedAt: 2025-11-14 03:37:21 -0000 (Fri, 14 Nov 2025) EllapsedTime: 142.1 seconds RetCode: 0 Status: OK PackageFile: MSA2dist_1.14.0.tar.gz PackageFileSize: 805.6 KiB