Package: MSA2dist Version: 1.12.0 Command: /home/biocbuild/bbs-3.21-bioc/R/bin/R CMD INSTALL MSA2dist StartedAt: 2025-10-12 15:49:11 -0400 (Sun, 12 Oct 2025) EndedAt: 2025-10-12 15:50:17 -0400 (Sun, 12 Oct 2025) EllapsedTime: 66.1 seconds RetCode: 0 Status: OK