Package: MSA2dist Version: 1.12.0 Command: /home/biocbuild/bbs-3.21-bioc/R/bin/R CMD build --keep-empty-dirs --no-resave-data MSA2dist StartedAt: 2025-10-12 18:41:28 -0400 (Sun, 12 Oct 2025) EndedAt: 2025-10-12 18:42:57 -0400 (Sun, 12 Oct 2025) EllapsedTime: 88.1 seconds RetCode: 0 Status: OK PackageFile: MSA2dist_1.12.0.tar.gz PackageFileSize: 978.9 KiB