Package: MSA2dist Version: 1.12.0 Command: rm -rf MSA2dist.buildbin-libdir && mkdir MSA2dist.buildbin-libdir && /Users/biocbuild/BBS/utils/build-universal.sh MSA2dist_1.12.0.tar.gz /Library/Frameworks/R.framework/Resources/bin/R MSA2dist.buildbin-libdir StartedAt: 2025-04-22 00:56:22 -0400 (Tue, 22 Apr 2025) EndedAt: 2025-04-22 00:57:46 -0400 (Tue, 22 Apr 2025) EllapsedTime: 84.0 seconds RetCode: 0 Status: OK PackageFile: MSA2dist_1.12.0.tgz PackageFileSize: 1.158 MiB