Package: MSA2dist Version: 1.12.0 Command: /Library/Frameworks/R.framework/Resources/bin/R CMD INSTALL MSA2dist StartedAt: 2025-10-09 18:02:20 -0400 (Thu, 09 Oct 2025) EndedAt: 2025-10-09 18:03:28 -0400 (Thu, 09 Oct 2025) EllapsedTime: 67.5 seconds RetCode: 0 Status: OK