Package: MSA2dist Version: 1.12.0 Command: /Library/Frameworks/R.framework/Resources/bin/R CMD build --keep-empty-dirs --no-resave-data MSA2dist StartedAt: 2025-10-10 05:21:02 -0400 (Fri, 10 Oct 2025) EndedAt: 2025-10-10 05:22:36 -0400 (Fri, 10 Oct 2025) EllapsedTime: 93.9 seconds RetCode: 0 Status: OK PackageFile: MSA2dist_1.12.0.tar.gz PackageFileSize: 881.6 KiB