Package: MSA2dist Version: 1.12.0 Maintainer: Kristian K Ullrich MaintainerEmail: ullrich at evolbio.mpg.de git_url: https://git.bioconductor.org/packages/MSA2dist git_branch: RELEASE_3_21 git_last_commit: d7a8634 git_last_commit_date: 2025-04-15 12:44:47 -0400 (Tue, 15 Apr 2025)