Package: MPRAnalyze Version: 1.28.0 Command: /home/biocbuild/bbs-3.22-bioc/R/bin/R CMD INSTALL MPRAnalyze StartedAt: 2025-11-11 15:26:47 -0500 (Tue, 11 Nov 2025) EndedAt: 2025-11-11 15:27:10 -0500 (Tue, 11 Nov 2025) EllapsedTime: 22.8 seconds RetCode: 0 Status: OK