Package: MPRAnalyze Version: 1.28.0 Command: /home/biocbuild/bbs-3.22-bioc/R/bin/R CMD check --install=check:MPRAnalyze.install-out.txt --library=/home/biocbuild/bbs-3.22-bioc/R/site-library --timings MPRAnalyze_1.28.0.tar.gz StartedAt: 2025-11-15 02:04:34 -0500 (Sat, 15 Nov 2025) EndedAt: 2025-11-15 02:07:32 -0500 (Sat, 15 Nov 2025) EllapsedTime: 178.2 seconds RetCode: 0 Status: OK CheckDir: MPRAnalyze.Rcheck Warnings: 0