Package: MPRAnalyze Version: 1.28.0 Command: /home/biocbuild/bbs-3.22-bioc/R/bin/R CMD build --keep-empty-dirs --no-resave-data --md5 MPRAnalyze StartedAt: 2025-11-11 18:57:28 -0500 (Tue, 11 Nov 2025) EndedAt: 2025-11-11 18:58:40 -0500 (Tue, 11 Nov 2025) EllapsedTime: 71.1 seconds RetCode: 0 Status: OK PackageFile: MPRAnalyze_1.28.0.tar.gz PackageFileSize: 560.9 KiB