Package: MPRAnalyze Version: 1.28.0 Command: /Library/Frameworks/R.framework/Resources/bin/R CMD INSTALL MPRAnalyze StartedAt: 2025-11-03 15:28:13 -0500 (Mon, 03 Nov 2025) EndedAt: 2025-11-03 15:28:48 -0500 (Mon, 03 Nov 2025) EllapsedTime: 36.0 seconds RetCode: 0 Status: OK