Package: MPRAnalyze Version: 1.28.0 Command: /Library/Frameworks/R.framework/Resources/bin/R CMD build --keep-empty-dirs --no-resave-data MPRAnalyze StartedAt: 2025-11-03 17:53:44 -0500 (Mon, 03 Nov 2025) EndedAt: 2025-11-03 17:55:21 -0500 (Mon, 03 Nov 2025) EllapsedTime: 97.2 seconds RetCode: 0 Status: OK PackageFile: MPRAnalyze_1.28.0.tar.gz PackageFileSize: 406.1 KiB