Package: MPRAnalyze Version: 1.26.0 Command: /home/biocbuild/R/R/bin/R CMD INSTALL MPRAnalyze StartedAt: 2025-10-09 20:35:37 -0000 (Thu, 09 Oct 2025) EndedAt: 2025-10-09 20:36:09 -0000 (Thu, 09 Oct 2025) EllapsedTime: 32.6 seconds RetCode: 0 Status: OK