Package: MPRAnalyze Version: 1.26.0 Command: /home/biocbuild/R/R/bin/R CMD build --keep-empty-dirs --no-resave-data MPRAnalyze StartedAt: 2025-10-10 02:46:22 -0000 (Fri, 10 Oct 2025) EndedAt: 2025-10-10 02:48:08 -0000 (Fri, 10 Oct 2025) EllapsedTime: 106.1 seconds RetCode: 0 Status: OK PackageFile: MPRAnalyze_1.26.0.tar.gz PackageFileSize: 429.6 KiB