Package: MPFE Version: 1.46.0 Command: /home/biocbuild/bbs-3.22-bioc/R/bin/R CMD build --keep-empty-dirs --no-resave-data --md5 MPFE StartedAt: 2025-11-11 18:56:47 -0500 (Tue, 11 Nov 2025) EndedAt: 2025-11-11 18:56:51 -0500 (Tue, 11 Nov 2025) EllapsedTime: 4.0 seconds RetCode: 0 Status: OK PackageFile: MPFE_1.46.0.tar.gz PackageFileSize: 191.8 KiB