Package: MPFE Version: 1.44.0 Command: /home/biocbuild/R/R/bin/R CMD INSTALL MPFE StartedAt: 2025-10-13 20:12:20 -0000 (Mon, 13 Oct 2025) EndedAt: 2025-10-13 20:12:33 -0000 (Mon, 13 Oct 2025) EllapsedTime: 13.5 seconds RetCode: 0 Status: OK