Package: MPFE Version: 1.44.0 Command: /home/biocbuild/R/R/bin/R CMD build --keep-empty-dirs --no-resave-data MPFE StartedAt: 2025-10-14 02:46:57 -0000 (Tue, 14 Oct 2025) EndedAt: 2025-10-14 02:47:02 -0000 (Tue, 14 Oct 2025) EllapsedTime: 5.0 seconds RetCode: 0 Status: OK PackageFile: MPFE_1.44.0.tar.gz PackageFileSize: 183.4 KiB