Package: MPAC Version: 1.4.0 Command: /home/biocbuild/bbs-3.22-bioc/R/bin/R CMD INSTALL MPAC StartedAt: 2025-11-11 16:00:26 -0500 (Tue, 11 Nov 2025) EndedAt: 2025-11-11 16:01:00 -0500 (Tue, 11 Nov 2025) EllapsedTime: 33.5 seconds RetCode: 0 Status: OK