Package: MPAC Version: 1.2.0 Command: /home/biocbuild/R/R/bin/R CMD INSTALL MPAC StartedAt: 2025-10-13 21:15:14 -0000 (Mon, 13 Oct 2025) EndedAt: 2025-10-13 21:16:01 -0000 (Mon, 13 Oct 2025) EllapsedTime: 47.4 seconds RetCode: 0 Status: OK