Package: MPAC Version: 1.2.0 Command: /home/biocbuild/R/R/bin/R CMD build --keep-empty-dirs --no-resave-data MPAC StartedAt: 2025-10-14 02:46:54 -0000 (Tue, 14 Oct 2025) EndedAt: 2025-10-14 02:48:26 -0000 (Tue, 14 Oct 2025) EllapsedTime: 92.0 seconds RetCode: 0 Status: OK PackageFile: MPAC_1.2.0.tar.gz PackageFileSize: 911.6 KiB