Package: MPAC Version: 1.4.0 Command: /Library/Frameworks/R.framework/Resources/bin/R CMD INSTALL MPAC StartedAt: 2025-10-31 15:32:57 -0400 (Fri, 31 Oct 2025) EndedAt: 2025-10-31 15:33:11 -0400 (Fri, 31 Oct 2025) EllapsedTime: 13.4 seconds RetCode: 0 Status: OK