Package: MPAC Version: 1.4.0 Command: rm -rf MPAC.buildbin-libdir && mkdir MPAC.buildbin-libdir && /Users/biocbuild/BBS/utils/build-universal.sh MPAC_1.4.0.tar.gz /Library/Frameworks/R.framework/Resources/bin/R MPAC.buildbin-libdir StartedAt: 2025-10-31 23:15:10 -0400 (Fri, 31 Oct 2025) EndedAt: 2025-10-31 23:15:25 -0400 (Fri, 31 Oct 2025) EllapsedTime: 15.3 seconds RetCode: 0 Status: OK PackageFile: MPAC_1.4.0.tgz PackageFileSize: 849.7 KiB