Package: MOSim Version: 2.6.0 Command: /home/biocbuild/R/R/bin/R CMD INSTALL MOSim StartedAt: 2025-11-13 22:07:01 -0000 (Thu, 13 Nov 2025) EndedAt: 2025-11-13 22:08:00 -0000 (Thu, 13 Nov 2025) EllapsedTime: 58.7 seconds RetCode: 0 Status: OK