Package: MOSim Version: 2.6.0 Command: /home/biocbuild/R/R/bin/R CMD build --keep-empty-dirs --no-resave-data MOSim StartedAt: 2025-11-14 03:29:23 -0000 (Fri, 14 Nov 2025) EndedAt: 2025-11-14 03:39:23 -0000 (Fri, 14 Nov 2025) EllapsedTime: 599.3 seconds RetCode: 0 Status: OK PackageFile: MOSim_2.6.0.tar.gz PackageFileSize: 6.408 MiB