Package: MOSim Version: 2.6.0 Command: /home/biocbuild/bbs-3.22-bioc/R/bin/R CMD INSTALL MOSim StartedAt: 2025-11-11 16:00:28 -0500 (Tue, 11 Nov 2025) EndedAt: 2025-11-11 16:01:14 -0500 (Tue, 11 Nov 2025) EllapsedTime: 45.5 seconds RetCode: 0 Status: OK