Package: MOSim Version: 2.4.0 Command: /home/biocbuild/bbs-3.21-bioc/R/bin/R CMD INSTALL MOSim StartedAt: 2025-10-05 15:52:11 -0400 (Sun, 05 Oct 2025) EndedAt: 2025-10-05 15:52:54 -0400 (Sun, 05 Oct 2025) EllapsedTime: 42.6 seconds RetCode: 0 Status: OK