Package: MOSim Version: 2.4.0 Command: /Library/Frameworks/R.framework/Resources/bin/R CMD INSTALL MOSim StartedAt: 2025-10-06 18:19:08 -0400 (Mon, 06 Oct 2025) EndedAt: 2025-10-06 18:20:01 -0400 (Mon, 06 Oct 2025) EllapsedTime: 53.0 seconds RetCode: 0 Status: OK