Package: MOSim Version: 2.4.0 Command: /Library/Frameworks/R.framework/Resources/bin/R CMD build --keep-empty-dirs --no-resave-data MOSim StartedAt: 2025-10-07 05:08:10 -0400 (Tue, 07 Oct 2025) EndedAt: 2025-10-07 05:16:39 -0400 (Tue, 07 Oct 2025) EllapsedTime: 509.0 seconds RetCode: 0 Status: OK PackageFile: MOSim_2.4.0.tar.gz PackageFileSize: 6.395 MiB