Package: MOSClip Version: 1.4.0 Command: /home/biocbuild/R/R/bin/R CMD INSTALL MOSClip StartedAt: 2025-11-10 21:52:57 -0000 (Mon, 10 Nov 2025) EndedAt: 2025-11-10 21:54:04 -0000 (Mon, 10 Nov 2025) EllapsedTime: 67.4 seconds RetCode: 0 Status: OK