Package: MOSClip Version: 1.4.0 Command: /home/biocbuild/R/R/bin/R CMD build --keep-empty-dirs --no-resave-data MOSClip StartedAt: 2025-11-11 03:26:12 -0000 (Tue, 11 Nov 2025) EndedAt: 2025-11-11 03:28:19 -0000 (Tue, 11 Nov 2025) EllapsedTime: 127.0 seconds RetCode: 0 Status: OK PackageFile: MOSClip_1.4.0.tar.gz PackageFileSize: 1.303 MiB