Package: MOSClip Version: 1.2.3 Command: /home/biocbuild/bbs-3.21-bioc/R/bin/R CMD INSTALL MOSClip StartedAt: 2025-09-28 15:58:55 -0400 (Sun, 28 Sep 2025) EndedAt: 2025-09-28 15:59:45 -0400 (Sun, 28 Sep 2025) EllapsedTime: 50.2 seconds RetCode: 0 Status: OK