Package: MOSClip Version: 1.2.3 Command: /home/biocbuild/bbs-3.21-bioc/R/bin/R CMD build --keep-empty-dirs --no-resave-data MOSClip StartedAt: 2025-09-28 18:51:57 -0400 (Sun, 28 Sep 2025) EndedAt: 2025-09-28 18:53:27 -0400 (Sun, 28 Sep 2025) EllapsedTime: 90.1 seconds RetCode: 0 Status: OK PackageFile: MOSClip_1.2.3.tar.gz PackageFileSize: 2.093 MiB