Package: MOSClip Version: 1.2.3 Command: /Library/Frameworks/R.framework/Resources/bin/R CMD INSTALL MOSClip StartedAt: 2025-10-02 16:16:27 -0400 (Thu, 02 Oct 2025) EndedAt: 2025-10-02 16:18:10 -0400 (Thu, 02 Oct 2025) EllapsedTime: 102.7 seconds RetCode: 0 Status: OK