Package: MOSClip Version: 1.2.3 Command: /Library/Frameworks/R.framework/Resources/bin/R CMD build --keep-empty-dirs --no-resave-data MOSClip StartedAt: 2025-10-02 20:47:15 -0400 (Thu, 02 Oct 2025) EndedAt: 2025-10-02 20:51:32 -0400 (Thu, 02 Oct 2025) EllapsedTime: 257.3 seconds RetCode: 0 Status: OK PackageFile: MOSClip_1.2.3.tar.gz PackageFileSize: 2.123 MiB