Package: MOSClip Version: 1.2.3 Command: rm -rf MOSClip.buildbin-libdir && mkdir MOSClip.buildbin-libdir && /Users/biocbuild/BBS/utils/build-universal.sh MOSClip_1.2.3.tar.gz /Library/Frameworks/R.framework/Resources/bin/R MOSClip.buildbin-libdir StartedAt: 2025-10-03 13:50:47 -0400 (Fri, 03 Oct 2025) EndedAt: 2025-10-03 13:53:37 -0400 (Fri, 03 Oct 2025) EllapsedTime: 170.1 seconds RetCode: 0 Status: OK PackageFile: MOSClip_1.2.3.tgz PackageFileSize: 2.406 MiB