Package: MOSClip Version: 1.2.0 Command: /Library/Frameworks/R.framework/Resources/bin/R CMD INSTALL MOSClip StartedAt: 2025-04-21 15:36:39 -0400 (Mon, 21 Apr 2025) EndedAt: 2025-04-21 15:37:45 -0400 (Mon, 21 Apr 2025) EllapsedTime: 66.0 seconds RetCode: 0 Status: OK