Package: MOSClip Version: 1.2.3 Command: /home/biocbuild/R/R/bin/R CMD INSTALL MOSClip StartedAt: 2025-09-25 21:00:10 -0000 (Thu, 25 Sep 2025) EndedAt: 2025-09-25 21:01:19 -0000 (Thu, 25 Sep 2025) EllapsedTime: 69.2 seconds RetCode: 0 Status: OK