Package: MOSClip Version: 1.2.3 Command: /home/biocbuild/R/R/bin/R CMD build --keep-empty-dirs --no-resave-data MOSClip StartedAt: 2025-09-26 04:04:42 -0000 (Fri, 26 Sep 2025) EndedAt: 2025-09-26 04:06:47 -0000 (Fri, 26 Sep 2025) EllapsedTime: 125.0 seconds RetCode: 0 Status: OK PackageFile: MOSClip_1.2.3.tar.gz PackageFileSize: 2.006 MiB