Package: MOSClip Version: 1.2.3 Command: /Library/Frameworks/R.framework/Resources/bin/R CMD INSTALL MOSClip StartedAt: 2025-09-25 17:27:26 -0400 (Thu, 25 Sep 2025) EndedAt: 2025-09-25 17:28:27 -0400 (Thu, 25 Sep 2025) EllapsedTime: 60.2 seconds RetCode: 0 Status: OK