Package: MOSClip Version: 1.2.3 Command: rm -rf MOSClip.buildbin-libdir && mkdir MOSClip.buildbin-libdir && /Users/biocbuild/BBS/utils/build-universal.sh MOSClip_1.2.3.tar.gz /Library/Frameworks/R.framework/Resources/bin/R MOSClip.buildbin-libdir StartedAt: 2025-09-27 18:24:35 -0400 (Sat, 27 Sep 2025) EndedAt: 2025-09-27 18:25:40 -0400 (Sat, 27 Sep 2025) EllapsedTime: 65.1 seconds RetCode: 0 Status: OK PackageFile: MOSClip_1.2.3.tgz PackageFileSize: 2.408 MiB