Package: MOSClip Version: 1.2.3 Maintainer: Paolo Martini MaintainerEmail: paolo.martini at unibs.it git_url: https://git.bioconductor.org/packages/MOSClip git_branch: RELEASE_3_21 git_last_commit: 0b0ae8c git_last_commit_date: 2025-09-22 10:37:16 -0400 (Mon, 22 Sep 2025)