Package: MOMA Version: 1.20.0 Command: /home/biocbuild/R/R/bin/R CMD INSTALL MOMA StartedAt: 2025-10-13 20:32:19 -0000 (Mon, 13 Oct 2025) EndedAt: 2025-10-13 20:33:07 -0000 (Mon, 13 Oct 2025) EllapsedTime: 47.1 seconds RetCode: 0 Status: OK