Package: MOMA Version: 1.20.0 Command: /home/biocbuild/R/R/bin/R CMD build --keep-empty-dirs --no-resave-data MOMA StartedAt: 2025-10-14 02:39:20 -0000 (Tue, 14 Oct 2025) EndedAt: 2025-10-14 02:41:59 -0000 (Tue, 14 Oct 2025) EllapsedTime: 159.0 seconds RetCode: 0 Status: OK PackageFile: MOMA_1.20.0.tar.gz PackageFileSize: 4.28 MiB