Package: MOGAMUN Version: 1.20.0 Command: /home/biocbuild/bbs-3.22-bioc/R/bin/R CMD INSTALL MOGAMUN StartedAt: 2025-11-11 15:17:50 -0500 (Tue, 11 Nov 2025) EndedAt: 2025-11-11 15:17:57 -0500 (Tue, 11 Nov 2025) EllapsedTime: 7.1 seconds RetCode: 0 Status: OK