Package: MOGAMUN Version: 1.20.0 Command: /home/biocbuild/bbs-3.22-bioc/R/bin/R CMD check --install=check:MOGAMUN.install-out.txt --library=/home/biocbuild/bbs-3.22-bioc/R/site-library --timings MOGAMUN_1.20.0.tar.gz StartedAt: 2025-11-14 01:45:09 -0500 (Fri, 14 Nov 2025) EndedAt: 2025-11-14 01:46:07 -0500 (Fri, 14 Nov 2025) EllapsedTime: 58.0 seconds RetCode: 0 Status: OK CheckDir: MOGAMUN.Rcheck Warnings: 0