Package: MOGAMUN Version: 1.18.0 Command: /home/biocbuild/R/R/bin/R CMD INSTALL MOGAMUN StartedAt: 2025-10-02 20:25:21 -0000 (Thu, 02 Oct 2025) EndedAt: 2025-10-02 20:25:31 -0000 (Thu, 02 Oct 2025) EllapsedTime: 9.4 seconds RetCode: 0 Status: OK