Package: MOGAMUN Version: 1.18.0 Command: /Library/Frameworks/R.framework/Resources/bin/R CMD build --keep-empty-dirs --no-resave-data MOGAMUN StartedAt: 2025-10-14 04:47:42 -0400 (Tue, 14 Oct 2025) EndedAt: 2025-10-14 04:47:57 -0400 (Tue, 14 Oct 2025) EllapsedTime: 14.9 seconds RetCode: 0 Status: OK PackageFile: MOGAMUN_1.18.0.tar.gz PackageFileSize: 125.9 KiB