Package: MOGAMUN Version: 1.20.0 Maintainer: Elva-MarĂ­a Novoa-del-Toro MaintainerEmail: elvanov at hotmail.com git_url: https://git.bioconductor.org/packages/MOGAMUN git_branch: RELEASE_3_22 git_last_commit: ca2045f git_last_commit_date: 2025-10-29 11:03:44 -0400 (Wed, 29 Oct 2025)