Package: MOFA2 Version: 1.20.0 Command: /home/biocbuild/bbs-3.22-bioc/R/bin/R CMD INSTALL MOFA2 StartedAt: 2025-11-11 15:39:51 -0500 (Tue, 11 Nov 2025) EndedAt: 2025-11-11 15:40:16 -0500 (Tue, 11 Nov 2025) EllapsedTime: 24.6 seconds RetCode: 0 Status: OK